BEGIN:VCALENDAR
VERSION:2.0
PRODID:-//Angel- und Gewässerschutzverein Wolfsburg-Vorsfelde und Umgebung e.V. - ECPv6.15.15//NONSGML v1.0//EN
CALSCALE:GREGORIAN
METHOD:PUBLISH
X-ORIGINAL-URL:https://www.test-vorsfelde.de
X-WR-CALDESC:Veranstaltungen für Angel- und Gewässerschutzverein Wolfsburg-Vorsfelde und Umgebung e.V.
REFRESH-INTERVAL;VALUE=DURATION:PT1H
X-Robots-Tag:noindex
X-PUBLISHED-TTL:PT1H
BEGIN:VTIMEZONE
TZID:Europe/Berlin
BEGIN:DAYLIGHT
TZOFFSETFROM:+0100
TZOFFSETTO:+0200
TZNAME:CEST
DTSTART:20240331T010000
END:DAYLIGHT
BEGIN:STANDARD
TZOFFSETFROM:+0200
TZOFFSETTO:+0100
TZNAME:CET
DTSTART:20241027T010000
END:STANDARD
BEGIN:DAYLIGHT
TZOFFSETFROM:+0100
TZOFFSETTO:+0200
TZNAME:CEST
DTSTART:20250330T010000
END:DAYLIGHT
BEGIN:STANDARD
TZOFFSETFROM:+0200
TZOFFSETTO:+0100
TZNAME:CET
DTSTART:20251026T010000
END:STANDARD
BEGIN:DAYLIGHT
TZOFFSETFROM:+0100
TZOFFSETTO:+0200
TZNAME:CEST
DTSTART:20260329T010000
END:DAYLIGHT
BEGIN:STANDARD
TZOFFSETFROM:+0200
TZOFFSETTO:+0100
TZNAME:CET
DTSTART:20261025T010000
END:STANDARD
END:VTIMEZONE
BEGIN:VEVENT
DTSTART;TZID=Europe/Berlin:20250301T090000
DTEND;TZID=Europe/Berlin:20250301T101700
DTSTAMP:20260421T161241
CREATED:20250210T170405Z
LAST-MODIFIED:20250210T171311Z
UID:1389-1740819600-1740824220@www.test-vorsfelde.de
SUMMARY:Geschäftsstelle geöffnet
DESCRIPTION:
URL:https://www.test-vorsfelde.de/event/vorstandssitzung-2/
LOCATION:Geschäftsstelle\, Amststraße 35\, 38448 Wolfsburg\, Germany
END:VEVENT
BEGIN:VEVENT
DTSTART;TZID=Europe/Berlin:20250227T080000
DTEND;TZID=Europe/Berlin:20250227T170000
DTSTAMP:20260421T161241
CREATED:20250214T170931Z
LAST-MODIFIED:20250214T170931Z
UID:1606-1740643200-1740675600@www.test-vorsfelde.de
SUMMARY:Jugendangeln
DESCRIPTION:Wöchentliches Jugendangeln
URL:https://www.test-vorsfelde.de/event/jugendangeln/
LOCATION:Seegaststätte Danndorf\, Feldstraße 25\, 38461 Danndorf\, Germany
END:VEVENT
BEGIN:VEVENT
DTSTART;TZID=Europe/Berlin:20250213T180000
DTEND;TZID=Europe/Berlin:20250213T200000
DTSTAMP:20260421T161241
CREATED:20250210T165804Z
LAST-MODIFIED:20250210T165923Z
UID:1387-1739469600-1739476800@www.test-vorsfelde.de
SUMMARY:Vorstandssitzung
DESCRIPTION:
URL:https://www.test-vorsfelde.de/event/vorstandssitzung/
LOCATION:Seegaststätte Danndorf\, Feldstraße 25\, 38461 Danndorf\, Germany
END:VEVENT
END:VCALENDAR